Package: DRIMSeq Version: 1.35.0 Command: E:\biocbuild\bbs-3.21-bioc\R\bin\R.exe CMD INSTALL DRIMSeq StartedAt: 2025-02-03 15:53:20 -0500 (Mon, 03 Feb 2025) EndedAt: 2025-02-03 15:54:11 -0500 (Mon, 03 Feb 2025) EllapsedTime: 50.4 seconds RetCode: 0 Status: OK