Package: DSS Version: 2.55.0 Command: /Library/Frameworks/R.framework/Resources/bin/R CMD check --install=check:DSS.install-out.txt --library=/Library/Frameworks/R.framework/Resources/library --no-vignettes --timings DSS_2.55.0.tar.gz StartedAt: 2025-02-04 19:03:57 -0500 (Tue, 04 Feb 2025) EndedAt: 2025-02-04 19:05:42 -0500 (Tue, 04 Feb 2025) EllapsedTime: 104.2 seconds RetCode: 0 Status: WARNINGS CheckDir: DSS.Rcheck Warnings: 1