Package: DSS Version: 2.55.0 Command: /home/biocbuild/R/R/bin/R CMD build --keep-empty-dirs --no-resave-data DSS StartedAt: 2025-01-28 22:36:26 -0000 (Tue, 28 Jan 2025) EndedAt: 2025-01-28 22:37:55 -0000 (Tue, 28 Jan 2025) EllapsedTime: 89.0 seconds RetCode: 0 Status: OK PackageFile: DSS_2.55.0.tar.gz PackageFileSize: 2.093 MiB