Package: DSS Version: 2.55.0 Command: /Library/Frameworks/R.framework/Resources/bin/R CMD build --keep-empty-dirs --no-resave-data DSS StartedAt: 2025-02-04 16:34:28 -0500 (Tue, 04 Feb 2025) EndedAt: 2025-02-04 16:35:40 -0500 (Tue, 04 Feb 2025) EllapsedTime: 71.9 seconds RetCode: 0 Status: OK PackageFile: DSS_2.55.0.tar.gz PackageFileSize: 2.029 MiB