Package: DSS Version: 2.55.0 Command: /Library/Frameworks/R.framework/Resources/bin/R CMD INSTALL DSS StartedAt: 2025-02-04 15:20:25 -0500 (Tue, 04 Feb 2025) EndedAt: 2025-02-04 15:21:20 -0500 (Tue, 04 Feb 2025) EllapsedTime: 55.2 seconds RetCode: 0 Status: OK