Package: DSS Version: 2.55.0 Command: rm -rf DSS.buildbin-libdir && mkdir DSS.buildbin-libdir && E:\biocbuild\bbs-3.21-bioc\R\bin\R.exe CMD INSTALL --build --library=DSS.buildbin-libdir DSS_2.55.0.tar.gz StartedAt: 2025-02-10 07:39:50 -0500 (Mon, 10 Feb 2025) EndedAt: 2025-02-10 07:41:17 -0500 (Mon, 10 Feb 2025) EllapsedTime: 87.2 seconds RetCode: 0 Status: OK PackageFile: DSS_2.55.0.zip PackageFileSize: 1.605 MiB