Package: DSS Version: 2.55.0 Command: E:\biocbuild\bbs-3.21-bioc\R\bin\R.exe CMD INSTALL DSS StartedAt: 2025-02-09 16:39:25 -0500 (Sun, 09 Feb 2025) EndedAt: 2025-02-09 16:40:21 -0500 (Sun, 09 Feb 2025) EllapsedTime: 56.0 seconds RetCode: 0 Status: OK