Package: DeMixT Version: 1.23.0 Command: rm -rf DeMixT.buildbin-libdir && mkdir DeMixT.buildbin-libdir && /Users/biocbuild/BBS/utils/build-universal.sh DeMixT_1.23.0.tar.gz /Library/Frameworks/R.framework/Resources/bin/R DeMixT.buildbin-libdir StartedAt: 2025-02-05 22:17:01 -0500 (Wed, 05 Feb 2025) EndedAt: 2025-02-05 22:17:26 -0500 (Wed, 05 Feb 2025) EllapsedTime: 25.6 seconds RetCode: 0 Status: OK PackageFile: DeMixT_1.23.0.tgz PackageFileSize: 3.972 MiB