Package: DeMixT Version: 1.23.0 Command: /Library/Frameworks/R.framework/Resources/bin/R CMD build --keep-empty-dirs --no-resave-data DeMixT StartedAt: 2025-02-04 16:07:17 -0500 (Tue, 04 Feb 2025) EndedAt: 2025-02-04 16:07:50 -0500 (Tue, 04 Feb 2025) EllapsedTime: 33.4 seconds RetCode: 0 Status: OK PackageFile: DeMixT_1.23.0.tar.gz PackageFileSize: 6.072 MiB