Package: DeMixT Version: 1.23.0 Command: /Library/Frameworks/R.framework/Resources/bin/R CMD INSTALL DeMixT StartedAt: 2025-02-05 15:20:37 -0500 (Wed, 05 Feb 2025) EndedAt: 2025-02-05 15:21:00 -0500 (Wed, 05 Feb 2025) EllapsedTime: 23.7 seconds RetCode: 0 Status: OK