Package: DeMixT Version: 1.23.0 Command: rm -rf DeMixT.buildbin-libdir && mkdir DeMixT.buildbin-libdir && /Users/biocbuild/BBS/utils/build-universal.sh DeMixT_1.23.0.tar.gz /Library/Frameworks/R.framework/Resources/bin/R DeMixT.buildbin-libdir StartedAt: 2025-02-06 00:27:04 -0500 (Thu, 06 Feb 2025) EndedAt: 2025-02-06 00:28:24 -0500 (Thu, 06 Feb 2025) EllapsedTime: 79.6 seconds RetCode: 0 Status: OK PackageFile: DeMixT_1.23.0.tgz PackageFileSize: 3.964 MiB