Package: DeMixT Version: 1.23.0 Command: /Library/Frameworks/R.framework/Resources/bin/R CMD build --keep-empty-dirs --no-resave-data DeMixT StartedAt: 2025-02-05 16:27:59 -0500 (Wed, 05 Feb 2025) EndedAt: 2025-02-05 16:29:24 -0500 (Wed, 05 Feb 2025) EllapsedTime: 85.7 seconds RetCode: 0 Status: OK PackageFile: DeMixT_1.23.0.tar.gz PackageFileSize: 6.072 MiB