Package: DeMixT Version: 1.23.0 Command: /Library/Frameworks/R.framework/Resources/bin/R CMD check --install=check:DeMixT.install-out.txt --library=/Library/Frameworks/R.framework/Resources/library --no-vignettes --timings DeMixT_1.23.0.tar.gz StartedAt: 2025-02-04 20:02:32 -0500 (Tue, 04 Feb 2025) EndedAt: 2025-02-04 20:09:32 -0500 (Tue, 04 Feb 2025) EllapsedTime: 420.1 seconds RetCode: 0 Status: WARNINGS CheckDir: DeMixT.Rcheck Warnings: 3