Package: DeMixT Version: 1.23.0 Command: /Library/Frameworks/R.framework/Resources/bin/R CMD INSTALL DeMixT StartedAt: 2025-02-04 15:32:31 -0500 (Tue, 04 Feb 2025) EndedAt: 2025-02-04 15:33:45 -0500 (Tue, 04 Feb 2025) EllapsedTime: 74.5 seconds RetCode: 0 Status: OK