Package: DeMixT Version: 1.23.0 Command: /home/biocbuild/bbs-3.21-bioc/R/bin/R CMD check --install=check:DeMixT.install-out.txt --library=/home/biocbuild/bbs-3.21-bioc/R/site-library --timings DeMixT_1.23.0.tar.gz StartedAt: 2025-02-05 21:41:29 -0500 (Wed, 05 Feb 2025) EndedAt: 2025-02-05 21:48:01 -0500 (Wed, 05 Feb 2025) EllapsedTime: 392.5 seconds RetCode: 0 Status: WARNINGS CheckDir: DeMixT.Rcheck Warnings: 3