Package: DeMixT Version: 1.23.0 Command: rm -rf DeMixT.buildbin-libdir && mkdir DeMixT.buildbin-libdir && E:\biocbuild\bbs-3.21-bioc\R\bin\R.exe CMD INSTALL --build --library=DeMixT.buildbin-libdir DeMixT_1.23.0.tar.gz StartedAt: 2025-02-06 07:53:37 -0500 (Thu, 06 Feb 2025) EndedAt: 2025-02-06 07:55:17 -0500 (Thu, 06 Feb 2025) EllapsedTime: 99.5 seconds RetCode: 0 Status: OK PackageFile: DeMixT_1.23.0.zip PackageFileSize: 4.243 MiB