Package: DeMixT Version: 1.23.0 Command: E:\biocbuild\bbs-3.21-bioc\R\bin\R.exe CMD check --no-multiarch --install=check:DeMixT.install-out.txt --library=E:\biocbuild\bbs-3.21-bioc\R\library --no-vignettes --timings DeMixT_1.23.0.tar.gz StartedAt: 2025-02-05 00:51:23 -0500 (Wed, 05 Feb 2025) EndedAt: 2025-02-05 01:00:14 -0500 (Wed, 05 Feb 2025) EllapsedTime: 531.8 seconds RetCode: 0 Status: WARNINGS CheckDir: DeMixT.Rcheck Warnings: 3