Package: DeconRNASeq Version: 1.49.0 Command: chmod a+r DeconRNASeq -R && E:\biocbuild\bbs-3.21-bioc\R\bin\R.exe CMD build --keep-empty-dirs --no-resave-data DeconRNASeq StartedAt: 2025-02-09 18:12:53 -0500 (Sun, 09 Feb 2025) EndedAt: 2025-02-09 18:13:11 -0500 (Sun, 09 Feb 2025) EllapsedTime: 17.8 seconds RetCode: 0 Status: OK PackageFile: DeconRNASeq_1.49.0.tar.gz PackageFileSize: 6.542 MiB