Package: DegCre Version: 1.3.0 Command: rm -rf DegCre.buildbin-libdir && mkdir DegCre.buildbin-libdir && /Users/biocbuild/BBS/utils/build-universal.sh DegCre_1.3.0.tar.gz /Library/Frameworks/R.framework/Resources/bin/R DegCre.buildbin-libdir StartedAt: 2025-02-12 22:16:55 -0500 (Wed, 12 Feb 2025) EndedAt: 2025-02-12 22:17:14 -0500 (Wed, 12 Feb 2025) EllapsedTime: 19.3 seconds RetCode: 0 Status: OK PackageFile: DegCre_1.3.0.tgz PackageFileSize: 2.547 MiB