Package: DegNorm Version: 1.17.0 Command: rm -rf DegNorm.buildbin-libdir && mkdir DegNorm.buildbin-libdir && /Users/biocbuild/BBS/utils/build-universal.sh DegNorm_1.17.0.tar.gz /Library/Frameworks/R.framework/Resources/bin/R DegNorm.buildbin-libdir StartedAt: 2025-02-04 22:13:37 -0500 (Tue, 04 Feb 2025) EndedAt: 2025-02-04 22:14:00 -0500 (Tue, 04 Feb 2025) EllapsedTime: 22.4 seconds RetCode: 0 Status: OK PackageFile: DegNorm_1.17.0.tgz PackageFileSize: 3.244 MiB