Package: DegNorm Version: 1.17.0 Command: /Library/Frameworks/R.framework/Resources/bin/R CMD INSTALL DegNorm StartedAt: 2025-02-04 15:24:48 -0500 (Tue, 04 Feb 2025) EndedAt: 2025-02-04 15:25:07 -0500 (Tue, 04 Feb 2025) EllapsedTime: 19.2 seconds RetCode: 0 Status: OK