Package: DegNorm Version: 1.17.0 Command: /home/biocbuild/R/R/bin/R CMD build --keep-empty-dirs --no-resave-data DegNorm StartedAt: 2025-01-28 22:20:35 -0000 (Tue, 28 Jan 2025) EndedAt: 2025-01-28 22:27:31 -0000 (Tue, 28 Jan 2025) EllapsedTime: 415.1 seconds RetCode: 0 Status: OK PackageFile: DegNorm_1.17.0.tar.gz PackageFileSize: 3.823 MiB