Package: DegNorm Version: 1.17.0 Command: rm -rf DegNorm.buildbin-libdir && mkdir DegNorm.buildbin-libdir && /Users/biocbuild/BBS/utils/build-universal.sh DegNorm_1.17.0.tar.gz /Library/Frameworks/R.framework/Resources/bin/R DegNorm.buildbin-libdir StartedAt: 2025-02-13 00:33:10 -0500 (Thu, 13 Feb 2025) EndedAt: 2025-02-13 00:34:21 -0500 (Thu, 13 Feb 2025) EllapsedTime: 71.7 seconds RetCode: 0 Status: OK PackageFile: DegNorm_1.17.0.tgz PackageFileSize: 3.254 MiB