Package: DegNorm Version: 1.17.0 Command: /Library/Frameworks/R.framework/Resources/bin/R CMD build --keep-empty-dirs --no-resave-data DegNorm StartedAt: 2025-02-09 16:29:48 -0500 (Sun, 09 Feb 2025) EndedAt: 2025-02-09 16:35:11 -0500 (Sun, 09 Feb 2025) EllapsedTime: 323.2 seconds RetCode: 0 Status: OK PackageFile: DegNorm_1.17.0.tar.gz PackageFileSize: 3.399 MiB