Package: DegNorm Version: 1.17.0 Command: rm -rf DegNorm.buildbin-libdir && mkdir DegNorm.buildbin-libdir && E:\biocbuild\bbs-3.21-bioc\R\bin\R.exe CMD INSTALL --build --library=DegNorm.buildbin-libdir DegNorm_1.17.0.tar.gz StartedAt: 2025-02-10 07:35:56 -0500 (Mon, 10 Feb 2025) EndedAt: 2025-02-10 07:36:59 -0500 (Mon, 10 Feb 2025) EllapsedTime: 62.9 seconds RetCode: 0 Status: OK PackageFile: DegNorm_1.17.0.zip PackageFileSize: 3.423 MiB