Package: DelayedArray Version: 0.33.5 Command: rm -rf DelayedArray.buildbin-libdir && mkdir DelayedArray.buildbin-libdir && /Users/biocbuild/BBS/utils/build-universal.sh DelayedArray_0.33.5.tar.gz /Library/Frameworks/R.framework/Resources/bin/R DelayedArray.buildbin-libdir StartedAt: 2025-02-03 22:47:44 -0500 (Mon, 03 Feb 2025) EndedAt: 2025-02-03 22:47:56 -0500 (Mon, 03 Feb 2025) EllapsedTime: 12.2 seconds RetCode: 0 Status: OK PackageFile: DelayedArray_0.33.5.tgz PackageFileSize: 2.437 MiB