Package: DelayedArray Version: 0.33.5 Command: /Library/Frameworks/R.framework/Resources/bin/R CMD build --keep-empty-dirs --no-resave-data DelayedArray StartedAt: 2025-02-09 16:05:40 -0500 (Sun, 09 Feb 2025) EndedAt: 2025-02-09 16:06:06 -0500 (Sun, 09 Feb 2025) EllapsedTime: 26.3 seconds RetCode: 0 Status: OK PackageFile: DelayedArray_0.33.5.tar.gz PackageFileSize: 795.9 KiB