Package: DelayedArray Version: 0.33.5 Command: /Library/Frameworks/R.framework/Resources/bin/R CMD INSTALL DelayedArray StartedAt: 2025-02-03 15:38:25 -0500 (Mon, 03 Feb 2025) EndedAt: 2025-02-03 15:38:39 -0500 (Mon, 03 Feb 2025) EllapsedTime: 14.1 seconds RetCode: 0 Status: OK