Package: DelayedArray Version: 0.33.4 Command: /home/biocbuild/R/R/bin/R CMD build --keep-empty-dirs --no-resave-data DelayedArray StartedAt: 2025-01-28 22:21:09 -0000 (Tue, 28 Jan 2025) EndedAt: 2025-01-28 22:22:27 -0000 (Tue, 28 Jan 2025) EllapsedTime: 78.0 seconds RetCode: 0 Status: OK PackageFile: DelayedArray_0.33.4.tar.gz PackageFileSize: 804.9 KiB