Package: DelayedArray Version: 0.33.4 Command: _R_CHECK_CODETOOLS_PROFILE_="suppressFundefMismatch=TRUE" /home/biocbuild/R/R/bin/R CMD check --install=check:DelayedArray.install-out.txt --library=/home/biocbuild/R/R/site-library --no-vignettes --timings DelayedArray_0.33.4.tar.gz StartedAt: 2025-01-28 09:49:49 -0000 (Tue, 28 Jan 2025) EndedAt: 2025-01-28 10:22:59 -0000 (Tue, 28 Jan 2025) EllapsedTime: 1989.2 seconds RetCode: 0 Status: WARNINGS CheckDir: DelayedArray.Rcheck Warnings: 1