Package: DelayedArray Version: 0.33.4 Command: /home/biocbuild/R/R/bin/R CMD INSTALL DelayedArray StartedAt: 2025-01-29 19:36:28 -0000 (Wed, 29 Jan 2025) EndedAt: 2025-01-29 19:37:15 -0000 (Wed, 29 Jan 2025) EllapsedTime: 46.2 seconds RetCode: 0 Status: OK