Package: DelayedArray Version: 0.33.5 Command: rm -rf DelayedArray.buildbin-libdir && mkdir DelayedArray.buildbin-libdir && /Users/biocbuild/BBS/utils/build-universal.sh DelayedArray_0.33.5.tar.gz /Library/Frameworks/R.framework/Resources/bin/R DelayedArray.buildbin-libdir StartedAt: 2025-02-10 00:49:56 -0500 (Mon, 10 Feb 2025) EndedAt: 2025-02-10 00:50:43 -0500 (Mon, 10 Feb 2025) EllapsedTime: 47.2 seconds RetCode: 0 Status: OK PackageFile: DelayedArray_0.33.5.tgz PackageFileSize: 2.435 MiB