Package: DelayedArray Version: 0.33.5 Command: _R_CHECK_CODETOOLS_PROFILE_="suppressFundefMismatch=TRUE" /Library/Frameworks/R.framework/Resources/bin/R CMD check --install=check:DelayedArray.install-out.txt --library=/Library/Frameworks/R.framework/Resources/library --no-vignettes --timings DelayedArray_0.33.5.tar.gz StartedAt: 2025-02-09 20:12:14 -0500 (Sun, 09 Feb 2025) EndedAt: 2025-02-09 20:45:30 -0500 (Sun, 09 Feb 2025) EllapsedTime: 1995.9 seconds RetCode: 0 Status: WARNINGS CheckDir: DelayedArray.Rcheck Warnings: 1