Package: DelayedArray Version: 0.33.5 Command: /home/biocbuild/bbs-3.21-bioc/R/bin/R CMD build --keep-empty-dirs --no-resave-data DelayedArray StartedAt: 2025-02-09 16:56:33 -0500 (Sun, 09 Feb 2025) EndedAt: 2025-02-09 16:57:32 -0500 (Sun, 09 Feb 2025) EllapsedTime: 59.1 seconds RetCode: 0 Status: OK PackageFile: DelayedArray_0.33.5.tar.gz PackageFileSize: 795.2 KiB