Package: DelayedArray Version: 0.33.5 Command: /home/biocbuild/bbs-3.21-bioc/R/bin/R CMD INSTALL DelayedArray StartedAt: 2025-02-09 15:15:16 -0500 (Sun, 09 Feb 2025) EndedAt: 2025-02-09 15:15:45 -0500 (Sun, 09 Feb 2025) EllapsedTime: 29.2 seconds RetCode: 0 Status: OK