Package: DelayedArray Version: 0.33.5 Command: rm -rf DelayedArray.buildbin-libdir && mkdir DelayedArray.buildbin-libdir && E:\biocbuild\bbs-3.21-bioc\R\bin\R.exe CMD INSTALL --build --library=DelayedArray.buildbin-libdir DelayedArray_0.33.5.tar.gz StartedAt: 2025-02-10 07:36:11 -0500 (Mon, 10 Feb 2025) EndedAt: 2025-02-10 07:39:31 -0500 (Mon, 10 Feb 2025) EllapsedTime: 199.7 seconds RetCode: 0 Status: OK PackageFile: DelayedArray_0.33.5.zip PackageFileSize: 2.268 MiB