Package: DelayedDataFrame Version: 1.23.0 Maintainer: Qian Liu MaintainerEmail: Qian.Liu at roswellpark.org git_url: https://git.bioconductor.org/packages/DelayedDataFrame git_branch: devel git_last_commit: 049374e git_last_commit_date: 2024-10-29 10:33:39 -0500 (Tue, 29 Oct 2024)