Package: DelayedDataFrame Version: 1.23.0 Command: /Library/Frameworks/R.framework/Resources/bin/R CMD check --install=check:DelayedDataFrame.install-out.txt --library=/Library/Frameworks/R.framework/Resources/library --no-vignettes --timings DelayedDataFrame_1.23.0.tar.gz StartedAt: 2025-02-04 18:55:25 -0500 (Tue, 04 Feb 2025) EndedAt: 2025-02-04 18:56:11 -0500 (Tue, 04 Feb 2025) EllapsedTime: 45.6 seconds RetCode: 0 Status: OK CheckDir: DelayedDataFrame.Rcheck Warnings: 0