Package: DelayedDataFrame Version: 1.23.0 Command: /Library/Frameworks/R.framework/Resources/bin/R CMD INSTALL DelayedDataFrame StartedAt: 2025-02-04 15:03:47 -0500 (Tue, 04 Feb 2025) EndedAt: 2025-02-04 15:03:54 -0500 (Tue, 04 Feb 2025) EllapsedTime: 6.8 seconds RetCode: 0 Status: OK