Package: DelayedDataFrame Version: 1.23.0 Command: /Library/Frameworks/R.framework/Resources/bin/R CMD build --keep-empty-dirs --no-resave-data DelayedDataFrame StartedAt: 2025-02-04 16:27:35 -0500 (Tue, 04 Feb 2025) EndedAt: 2025-02-04 16:28:10 -0500 (Tue, 04 Feb 2025) EllapsedTime: 34.3 seconds RetCode: 0 Status: OK PackageFile: DelayedDataFrame_1.23.0.tar.gz PackageFileSize: 486.4 KiB