Package: DelayedDataFrame Version: 1.23.0 Command: /Library/Frameworks/R.framework/Resources/bin/R CMD INSTALL DelayedDataFrame StartedAt: 2025-02-09 15:08:31 -0500 (Sun, 09 Feb 2025) EndedAt: 2025-02-09 15:09:09 -0500 (Sun, 09 Feb 2025) EllapsedTime: 38.2 seconds RetCode: 0 Status: OK