Package: DelayedDataFrame Version: 1.23.0 Command: /home/biocbuild/bbs-3.21-bioc/R/bin/R CMD check --install=check:DelayedDataFrame.install-out.txt --library=/home/biocbuild/bbs-3.21-bioc/R/site-library --timings DelayedDataFrame_1.23.0.tar.gz StartedAt: 2025-02-09 21:37:32 -0500 (Sun, 09 Feb 2025) EndedAt: 2025-02-09 21:39:46 -0500 (Sun, 09 Feb 2025) EllapsedTime: 134.1 seconds RetCode: 0 Status: OK CheckDir: DelayedDataFrame.Rcheck Warnings: 0