Package: DelayedDataFrame Version: 1.23.0 Command: rm -rf DelayedDataFrame.buildbin-libdir && mkdir DelayedDataFrame.buildbin-libdir && E:\biocbuild\bbs-3.21-bioc\R\bin\R.exe CMD INSTALL --build --library=DelayedDataFrame.buildbin-libdir DelayedDataFrame_1.23.0.tar.gz StartedAt: 2025-02-05 07:47:46 -0500 (Wed, 05 Feb 2025) EndedAt: 2025-02-05 07:49:25 -0500 (Wed, 05 Feb 2025) EllapsedTime: 98.2 seconds RetCode: 0 Status: OK PackageFile: DelayedDataFrame_1.23.0.zip PackageFileSize: 924.3 KiB