Package: DelayedDataFrame Version: 1.23.0 Command: chmod a+r DelayedDataFrame -R && E:\biocbuild\bbs-3.21-bioc\R\bin\R.exe CMD build --keep-empty-dirs --no-resave-data DelayedDataFrame StartedAt: 2025-02-09 18:16:00 -0500 (Sun, 09 Feb 2025) EndedAt: 2025-02-09 18:16:44 -0500 (Sun, 09 Feb 2025) EllapsedTime: 44.6 seconds RetCode: 0 Status: OK PackageFile: DelayedDataFrame_1.23.0.tar.gz PackageFileSize: 486.7 KiB