Package: DelayedDataFrame Version: 1.23.0 Command: E:\biocbuild\bbs-3.21-bioc\R\bin\R.exe CMD check --no-multiarch --install=check:DelayedDataFrame.install-out.txt --library=E:\biocbuild\bbs-3.21-bioc\R\library --no-vignettes --timings DelayedDataFrame_1.23.0.tar.gz StartedAt: 2025-02-05 00:47:23 -0500 (Wed, 05 Feb 2025) EndedAt: 2025-02-05 00:49:51 -0500 (Wed, 05 Feb 2025) EllapsedTime: 148.6 seconds RetCode: 0 Status: OK CheckDir: DelayedDataFrame.Rcheck Warnings: 0