Package: DelayedDataFrame Version: 1.23.0 Command: E:\biocbuild\bbs-3.21-bioc\R\bin\R.exe CMD INSTALL DelayedDataFrame StartedAt: 2025-02-09 15:53:06 -0500 (Sun, 09 Feb 2025) EndedAt: 2025-02-09 15:54:17 -0500 (Sun, 09 Feb 2025) EllapsedTime: 71.4 seconds RetCode: 0 Status: OK