Package: DelayedMatrixStats Version: 1.29.1 Command: rm -rf DelayedMatrixStats.buildbin-libdir && mkdir DelayedMatrixStats.buildbin-libdir && /Users/biocbuild/BBS/utils/build-universal.sh DelayedMatrixStats_1.29.1.tar.gz /Library/Frameworks/R.framework/Resources/bin/R DelayedMatrixStats.buildbin-libdir StartedAt: 2025-02-04 22:13:46 -0500 (Tue, 04 Feb 2025) EndedAt: 2025-02-04 22:13:56 -0500 (Tue, 04 Feb 2025) EllapsedTime: 10.2 seconds RetCode: 0 Status: OK PackageFile: DelayedMatrixStats_1.29.1.tgz PackageFileSize: 728.3 KiB