Package: DelayedMatrixStats Version: 1.29.1 Command: /Library/Frameworks/R.framework/Resources/bin/R CMD build --keep-empty-dirs --no-resave-data DelayedMatrixStats StartedAt: 2025-02-04 16:06:39 -0500 (Tue, 04 Feb 2025) EndedAt: 2025-02-04 16:08:21 -0500 (Tue, 04 Feb 2025) EllapsedTime: 102.1 seconds RetCode: 0 Status: OK PackageFile: DelayedMatrixStats_1.29.1.tar.gz PackageFileSize: 264.2 KiB