Package: DelayedMatrixStats Version: 1.29.1 Command: /home/biocbuild/R/R/bin/R CMD build --keep-empty-dirs --no-resave-data DelayedMatrixStats StartedAt: 2025-01-28 22:21:44 -0000 (Tue, 28 Jan 2025) EndedAt: 2025-01-28 22:28:12 -0000 (Tue, 28 Jan 2025) EllapsedTime: 387.1 seconds RetCode: 0 Status: OK PackageFile: DelayedMatrixStats_1.29.1.tar.gz PackageFileSize: 289 KiB