Package: DelayedMatrixStats Version: 1.29.1 Command: /home/biocbuild/R/R/bin/R CMD INSTALL DelayedMatrixStats StartedAt: 2025-01-29 19:43:44 -0000 (Wed, 29 Jan 2025) EndedAt: 2025-01-29 19:44:14 -0000 (Wed, 29 Jan 2025) EllapsedTime: 30.1 seconds RetCode: 0 Status: OK